BEGIN:VCALENDAR
VERSION:2.0
PRODID:-//RIGHTHERE//CALENDARIZE IT V3.2//EN
BEGIN:VEVENT
UID:736-events@holytrinitylbi.com
DTSTART;VALUE=DATE:20180214
DTEND;VALUE=DATE:20180214
DTSTAMP:20180129T204024Z
SUMMARY:Valentine’s Day
URL:https://holytrinitylbi.com/events/valentines-day/
END:VEVENT
END:VCALENDAR