BEGIN:VCALENDAR
VERSION:2.0
PRODID:-//RIGHTHERE//CALENDARIZE IT V3.2//EN
BEGIN:VEVENT
UID:730-events@holytrinitylbi.com
DTSTART:20180217T123000Z
DTEND:20180217T000000Z
DTSTAMP:20180129T203815Z
SUMMARY:All Church Planning Retreat
URL:https://holytrinitylbi.com/events/all-church-planning-retreat/
END:VEVENT
END:VCALENDAR